BEGIN:VCALENDAR
VERSION:2.0
PRODID:-//Maison de Quartier La Touche - ECPv6.2.0.1//NONSGML v1.0//EN
CALSCALE:GREGORIAN
METHOD:PUBLISH
X-ORIGINAL-URL:https://www.mqlt.fr
X-WR-CALDESC:évènements pour Maison de Quartier La Touche
REFRESH-INTERVAL;VALUE=DURATION:PT1H
X-Robots-Tag:noindex
X-PUBLISHED-TTL:PT1H
BEGIN:VTIMEZONE
TZID:Europe/Paris
BEGIN:DAYLIGHT
TZOFFSETFROM:+0100
TZOFFSETTO:+0200
TZNAME:CEST
DTSTART:20230326T010000
END:DAYLIGHT
BEGIN:STANDARD
TZOFFSETFROM:+0200
TZOFFSETTO:+0100
TZNAME:CET
DTSTART:20231029T010000
END:STANDARD
END:VTIMEZONE
BEGIN:VEVENT
DTSTART;TZID=Europe/Paris:20230609T140000
DTEND;TZID=Europe/Paris:20230609T160000
DTSTAMP:20260423T213707
CREATED:20230425T141532Z
LAST-MODIFIED:20230425T141532Z
UID:17158-1686319200-1686326400@www.mqlt.fr
SUMMARY:Séance thématique - Eviter les arnaques en ligne
DESCRIPTION:Programme complet : https://www.mqlt.fr/programme-des-seances-thematiques-mai-juillet-2023/
URL:https://www.mqlt.fr/agenda/seance-thematique-eviter-les-arnaques-en-ligne/
LOCATION:Maison de Quartier La Touche
END:VEVENT
BEGIN:VEVENT
DTSTART;TZID=Europe/Paris:20230609T150000
DTEND;TZID=Europe/Paris:20230609T190000
DTSTAMP:20260423T213707
CREATED:20230524T093551Z
LAST-MODIFIED:20230524T093613Z
UID:17243-1686322800-1686337200@www.mqlt.fr
SUMMARY:Forum - Droits & Loisirs
DESCRIPTION:Les partenaires des Quartiers Ouest vous proposent ce temps pour vous informer : transport\, loisirs\, culture\, vacances\, logement\, droits sociaux… Venez à notre rencontre ! \nGratuit\, sans inscription – Square des Oliviers (Cleunay) \n 
URL:https://www.mqlt.fr/agenda/forum-droits-loisirs/
LOCATION:Square des Oliviers\, Square des Oliviers\, Rennes
END:VEVENT
END:VCALENDAR