BEGIN:VCALENDAR
VERSION:2.0
PRODID:-//Maison de Quartier La Touche - ECPv6.2.0.1//NONSGML v1.0//EN
CALSCALE:GREGORIAN
METHOD:PUBLISH
X-WR-CALNAME:Maison de Quartier La Touche
X-ORIGINAL-URL:https://www.mqlt.fr
X-WR-CALDESC:évènements pour Maison de Quartier La Touche
REFRESH-INTERVAL;VALUE=DURATION:PT1H
X-Robots-Tag:noindex
X-PUBLISHED-TTL:PT1H
BEGIN:VTIMEZONE
TZID:Europe/Paris
BEGIN:DAYLIGHT
TZOFFSETFROM:+0100
TZOFFSETTO:+0200
TZNAME:CEST
DTSTART:20230326T010000
END:DAYLIGHT
BEGIN:STANDARD
TZOFFSETFROM:+0200
TZOFFSETTO:+0100
TZNAME:CET
DTSTART:20231029T010000
END:STANDARD
END:VTIMEZONE
BEGIN:VEVENT
DTSTART;TZID=Europe/Paris:20230617T140000
DTEND;TZID=Europe/Paris:20230617T180000
DTSTAMP:20260423T213139
CREATED:20230504T140224Z
LAST-MODIFIED:20230504T140224Z
UID:17204-1687010400-1687024800@www.mqlt.fr
SUMMARY:Urban Grégoire - Jeunesse
DESCRIPTION:Urban Grégoire – Jeunesse  \nSamedi 17 Juin de 14h à 18h.  \nÉvènement autour des pratiques urbaines (skate\, graffiti\, basket\, freestyle…) \n \n  \n 
URL:https://www.mqlt.fr/agenda/urban-gregoire-jeunesse/
LOCATION:Maison de Quartier La Touche
END:VEVENT
END:VCALENDAR