BEGIN:VCALENDAR
VERSION:2.0
PRODID:-//Maison de Quartier La Touche - ECPv6.2.0.1//NONSGML v1.0//EN
CALSCALE:GREGORIAN
METHOD:PUBLISH
X-WR-CALNAME:Maison de Quartier La Touche
X-ORIGINAL-URL:https://www.mqlt.fr
X-WR-CALDESC:évènements pour Maison de Quartier La Touche
REFRESH-INTERVAL;VALUE=DURATION:PT1H
X-Robots-Tag:noindex
X-PUBLISHED-TTL:PT1H
BEGIN:VTIMEZONE
TZID:Europe/Paris
BEGIN:DAYLIGHT
TZOFFSETFROM:+0100
TZOFFSETTO:+0200
TZNAME:CEST
DTSTART:20230326T010000
END:DAYLIGHT
BEGIN:STANDARD
TZOFFSETFROM:+0200
TZOFFSETTO:+0100
TZNAME:CET
DTSTART:20231029T010000
END:STANDARD
END:VTIMEZONE
BEGIN:VEVENT
DTSTART;TZID=Europe/Paris:20230629T093000
DTEND;TZID=Europe/Paris:20230629T113000
DTSTAMP:20260423T182623
CREATED:20230405T070851Z
LAST-MODIFIED:20230405T070851Z
UID:16956-1688031000-1688038200@www.mqlt.fr
SUMMARY:Touch'Estivale - Fête de la Musique des Bébés
DESCRIPTION:Touch’Estivale – Fête de la Musique des Bébés \nJeudi 29 juin\, de 9h30 à 11h30\, Place Simone de Beauvoir.\n \nCette matinée\, ouverte à tous les publics\, est orientée autour des activités des enfants de 0 à 3 ans. \nAu programme : \n\nde nombreux espaces de jeux\,\nparcours sensoriel\,\njeux de sable\,\njouets de la ludothèque\,\nespace lecture\,\njeux de construction\,\nparcours de motricité…
URL:https://www.mqlt.fr/agenda/touchestivale-fete-de-la-musique-des-bebes/
LOCATION:Place Simone de Beauvoir\, Place Simone de Beauvoir\, Rennes\, 35000\, France
END:VEVENT
BEGIN:VEVENT
DTSTART;TZID=Europe/Paris:20230629T140000
DTEND;TZID=Europe/Paris:20230629T170000
DTSTAMP:20260423T182623
CREATED:20230405T071317Z
LAST-MODIFIED:20230405T071317Z
UID:16958-1688047200-1688058000@www.mqlt.fr
SUMMARY:Touch'Estivale - Fête des seniors
DESCRIPTION:Touch’Estivale – Fête des seniors \nJeudi 29 juin\, de 14h à 17h \nPlace Simone De Beauvoir \nUn après-midi d’animations\, de jeux traditionnels. Ouvert à tout public. \nAu programme : \n\npalets\,\ncrapaud\,\nboite à case\,\nplanche à ressort\,\npétanque.
URL:https://www.mqlt.fr/agenda/touchestivale-fete-des-seniors/
LOCATION:Place Simone de Beauvoir\, Place Simone de Beauvoir\, Rennes\, 35000\, France
END:VEVENT
END:VCALENDAR