BEGIN:VCALENDAR
VERSION:2.0
PRODID:-//Maison de Quartier La Touche - ECPv6.2.0.1//NONSGML v1.0//EN
CALSCALE:GREGORIAN
METHOD:PUBLISH
X-ORIGINAL-URL:https://www.mqlt.fr
X-WR-CALDESC:évènements pour Maison de Quartier La Touche
REFRESH-INTERVAL;VALUE=DURATION:PT1H
X-Robots-Tag:noindex
X-PUBLISHED-TTL:PT1H
BEGIN:VTIMEZONE
TZID:Europe/Paris
BEGIN:DAYLIGHT
TZOFFSETFROM:+0100
TZOFFSETTO:+0200
TZNAME:CEST
DTSTART:20230326T010000
END:DAYLIGHT
BEGIN:STANDARD
TZOFFSETFROM:+0200
TZOFFSETTO:+0100
TZNAME:CET
DTSTART:20231029T010000
END:STANDARD
END:VTIMEZONE
BEGIN:VEVENT
DTSTART;TZID=Europe/Paris:20230630T170000
DTEND;TZID=Europe/Paris:20230701T000000
DTSTAMP:20260423T184723
CREATED:20230405T071854Z
LAST-MODIFIED:20230526T085857Z
UID:16960-1688144400-1688169600@www.mqlt.fr
SUMMARY:Friday Night Fever - Touch'Estivale
DESCRIPTION:𝗩𝗲𝗻𝗱𝗿𝗲𝗱𝗶 𝟯𝟬 𝗷𝘂𝗶𝗻 · 𝟭𝟳𝗵 – 𝟬𝟬𝗵\n\nUn événement de quartier\, ancré dans la “Touch’Estivale”\, où le disco revient en force ! \n\nLors de la 𝗙𝗿𝗶𝗱𝗮𝘆 𝗡𝗶𝗴𝗵𝘁 𝗙𝗲𝘃𝗲𝗿\, seront programmés un karaoké géant\, du roller\, un spectacle de drag queen\, un concert et un dj set \n\nUn espace restauration est mis à disposition pour les habitant·es\, avec du sucré et du salé. \nUn bar accompagne le tout\, pour se rafraîchir à tout moment ! \n\n(Re)découvrez : 𝘽𝙧𝙤𝙖𝙙𝙬𝙖𝙮 𝙁𝙧𝙚𝙣𝙘𝙝 · 𝘿𝙞𝙨𝙘𝙤 𝙛𝙪𝙩𝙪𝙧𝙚\n\nAnimations sur place : 𝘒𝘢𝘳𝘢𝘰𝘬𝘦́ 𝘨𝘦́𝘢𝘯𝘵 · 𝘑𝘦𝘶𝘹 𝘨𝘦́𝘢𝘯𝘵𝘴 · 𝘙𝘰𝘭𝘭𝘦𝘳 𝘗𝘢𝘳𝘵𝘺 · 𝘚𝘵𝘢𝘯𝘥 𝘱𝘢𝘪𝘭𝘭𝘦𝘵𝘵𝘦𝘴 · 𝘊𝘳𝘦́𝘢𝘵𝘪𝘰𝘯 𝘥𝘦 𝘣𝘰𝘶𝘭𝘦𝘴 𝘢̀ 𝘧𝘢𝘤𝘦𝘵𝘵𝘦𝘴 · 𝘌𝘴𝘱𝘢𝘤𝘦 𝘱𝘦𝘵𝘪𝘵𝘦 𝘦𝘯𝘧𝘢𝘯𝘤𝘦 · 𝘉𝘢𝘳 · 𝘙𝘦𝘴𝘵𝘢𝘶𝘳𝘢𝘵𝘪𝘰𝘯\n\nLIEU : Place Simone de Beauvoir\nORGANISATEUR : Maison de Quartier La Touche\nOUVERT À : Toutes et à tous \n𝘋𝘢𝘯𝘴 𝘭𝘦 𝘤𝘢𝘥𝘳𝘦 𝘥𝘦 “𝘊𝘦𝘵 𝘌́𝘵𝘦́ 𝘢̀ 𝘙𝘦𝘯𝘯𝘦𝘴”\n 
URL:https://www.mqlt.fr/agenda/touchestivale-friday-night-fever/
LOCATION:Place Simone de Beauvoir\, Place Simone de Beauvoir\, Rennes\, 35000\, France
END:VEVENT
END:VCALENDAR