BEGIN:VCALENDAR
VERSION:2.0
PRODID:-//Maison de Quartier La Touche - ECPv6.2.0.1//NONSGML v1.0//EN
CALSCALE:GREGORIAN
METHOD:PUBLISH
X-WR-CALNAME:Maison de Quartier La Touche
X-ORIGINAL-URL:https://www.mqlt.fr
X-WR-CALDESC:évènements pour Maison de Quartier La Touche
REFRESH-INTERVAL;VALUE=DURATION:PT1H
X-Robots-Tag:noindex
X-PUBLISHED-TTL:PT1H
BEGIN:VTIMEZONE
TZID:Europe/Paris
BEGIN:DAYLIGHT
TZOFFSETFROM:+0100
TZOFFSETTO:+0200
TZNAME:CEST
DTSTART:20230326T010000
END:DAYLIGHT
BEGIN:STANDARD
TZOFFSETFROM:+0200
TZOFFSETTO:+0100
TZNAME:CET
DTSTART:20231029T010000
END:STANDARD
END:VTIMEZONE
BEGIN:VEVENT
DTSTART;TZID=Europe/Paris:20230704T143000
DTEND;TZID=Europe/Paris:20230704T163000
DTSTAMP:20260423T194434
CREATED:20230526T083451Z
LAST-MODIFIED:20230526T083728Z
UID:17271-1688481000-1688488200@www.mqlt.fr
SUMMARY:Les Mardis du Parc
DESCRIPTION:Secteur Seniors \nLe mardi 4 juillet\, de 14h30 à 16h30 \nVenez partager un moment convivial au parc St Cyr autour d’une veillée d’après-midi. Au programme : jeux\, discussion\, chant\, musique\, partage\, etc.\nNous invitons les participants à venir avec un ami\, un voisin\, un parent. Gratuit et sans inscription.
URL:https://www.mqlt.fr/agenda/les-mardis-du-parc/
LOCATION:Parc St-Cyr
END:VEVENT
BEGIN:VEVENT
DTSTART;TZID=Europe/Paris:20230704T160000
DTEND;TZID=Europe/Paris:20230704T173000
DTSTAMP:20260423T194434
CREATED:20230405T072144Z
LAST-MODIFIED:20230425T083237Z
UID:16962-1688486400-1688491800@www.mqlt.fr
SUMMARY:Ludomobile
DESCRIPTION:Ludomobile \nMardi 4 juillet\, de 16h à 17h30 \nAu Parc La Touche. \n  \nEn route vers le jeu ! Une ludothèque itinérante\, destinée à toutes et à tous !
URL:https://www.mqlt.fr/agenda/ludomobile/
LOCATION:Parc La Touche
END:VEVENT
END:VCALENDAR