BEGIN:VCALENDAR
VERSION:2.0
PRODID:-//Maison de Quartier La Touche - ECPv6.2.0.1//NONSGML v1.0//EN
CALSCALE:GREGORIAN
METHOD:PUBLISH
X-WR-CALNAME:Maison de Quartier La Touche
X-ORIGINAL-URL:https://www.mqlt.fr
X-WR-CALDESC:évènements pour Maison de Quartier La Touche
REFRESH-INTERVAL;VALUE=DURATION:PT1H
X-Robots-Tag:noindex
X-PUBLISHED-TTL:PT1H
BEGIN:VTIMEZONE
TZID:Europe/Paris
BEGIN:DAYLIGHT
TZOFFSETFROM:+0100
TZOFFSETTO:+0200
TZNAME:CEST
DTSTART:20230326T010000
END:DAYLIGHT
BEGIN:STANDARD
TZOFFSETFROM:+0200
TZOFFSETTO:+0100
TZNAME:CET
DTSTART:20231029T010000
END:STANDARD
END:VTIMEZONE
BEGIN:VEVENT
DTSTART;VALUE=DATE:20230710
DTEND;VALUE=DATE:20230715
DTSTAMP:20260423T184420
CREATED:20230331T081004Z
LAST-MODIFIED:20230331T081004Z
UID:16931-1688947200-1689379199@www.mqlt.fr
SUMMARY:Séjour été : Les Monts D'Arrée
DESCRIPTION:Séjour été 2023 dans les Monts D’Arrée avec la Maison Bleu. \nDu 10 au 14 juillet. \nAu programme \, nature\, sport et découverte. \nA partir de 80€. \nInscription à noam@mqlt.fr \nou directement à la maison de quartier. \n \n 
URL:https://www.mqlt.fr/agenda/sejour-ete-les-monts-darree/
LOCATION:Maison de Quartier La Touche
END:VEVENT
BEGIN:VEVENT
DTSTART;TZID=Europe/Paris:20230712T100000
DTEND;TZID=Europe/Paris:20230712T110000
DTSTAMP:20260423T184420
CREATED:20230405T073238Z
LAST-MODIFIED:20230425T082841Z
UID:16969-1689156000-1689159600@www.mqlt.fr
SUMMARY:Gymnastique douce en plein air
DESCRIPTION:Gymnastique douce en plein air \nMercredi 12 juillet\, de 10h à 11h \nPlace Simone de Beauvoir. \n  \nSéance de gymnastique douce en extérieur\, une occasion de tester une activité physique et sportive collective adaptée à tout âge\, tout en sympathisant avec d’autres habitant·es !
URL:https://www.mqlt.fr/agenda/gymnastique-douce-en-plein-air-5/
LOCATION:Place Simone de Beauvoir\, Place Simone de Beauvoir\, Rennes\, 35000\, France
END:VEVENT
BEGIN:VEVENT
DTSTART;TZID=Europe/Paris:20230712T170000
DTEND;TZID=Europe/Paris:20230712T230000
DTSTAMP:20260423T184420
CREATED:20230405T073456Z
LAST-MODIFIED:20230425T082718Z
UID:16971-1689181200-1689202800@www.mqlt.fr
SUMMARY:Les Jeux du Mercredi
DESCRIPTION:Les Jeux du Mercredi \nMercredi 12 juillet\, de 17h à 23h \nPlace Simone de Beauvoir et Maison de Quartier La Touche \n  \nDes jeux géants à l’extérieur pour profiter de la soirée estivale et une soirée jeux de société à l’intérieur de la Maison de Quartier : c’est le programme d’une bonne soirée ludique !
URL:https://www.mqlt.fr/agenda/les-jeux-du-mercredi/
LOCATION:Maison de Quartier La Touche
END:VEVENT
END:VCALENDAR