BEGIN:VCALENDAR
VERSION:2.0
PRODID:-//Maison de Quartier La Touche - ECPv6.2.0.1//NONSGML v1.0//EN
CALSCALE:GREGORIAN
METHOD:PUBLISH
X-ORIGINAL-URL:https://www.mqlt.fr
X-WR-CALDESC:évènements pour Maison de Quartier La Touche
REFRESH-INTERVAL;VALUE=DURATION:PT1H
X-Robots-Tag:noindex
X-PUBLISHED-TTL:PT1H
BEGIN:VTIMEZONE
TZID:Europe/Paris
BEGIN:DAYLIGHT
TZOFFSETFROM:+0100
TZOFFSETTO:+0200
TZNAME:CEST
DTSTART:20230326T010000
END:DAYLIGHT
BEGIN:STANDARD
TZOFFSETFROM:+0200
TZOFFSETTO:+0100
TZNAME:CET
DTSTART:20231029T010000
END:STANDARD
END:VTIMEZONE
BEGIN:VEVENT
DTSTART;VALUE=DATE:20230710
DTEND;VALUE=DATE:20230715
DTSTAMP:20260423T183839
CREATED:20230331T081004Z
LAST-MODIFIED:20230331T081004Z
UID:16931-1688947200-1689379199@www.mqlt.fr
SUMMARY:Séjour été : Les Monts D'Arrée
DESCRIPTION:Séjour été 2023 dans les Monts D’Arrée avec la Maison Bleu. \nDu 10 au 14 juillet. \nAu programme \, nature\, sport et découverte. \nA partir de 80€. \nInscription à noam@mqlt.fr \nou directement à la maison de quartier. \n \n 
URL:https://www.mqlt.fr/agenda/sejour-ete-les-monts-darree/
LOCATION:Maison de Quartier La Touche
END:VEVENT
BEGIN:VEVENT
DTSTART;TZID=Europe/Paris:20230713T100000
DTEND;TZID=Europe/Paris:20230713T123000
DTSTAMP:20260423T183839
CREATED:20230405T074023Z
LAST-MODIFIED:20230425T082413Z
UID:16973-1689242400-1689251400@www.mqlt.fr
SUMMARY:Sortie photo\, découverte - Enfants
DESCRIPTION:Sortie photo\, découverte – Enfants \nJeudi 13 juillet\, de 10h à 12h \nVille de Rennes – Rendez-vous à la Maison de Quartier La Touche. \n  \nPartons à la découverte de la nature\, tout en apprenant à prendre des photos ! \nDe 8 à 17 ans \nSur inscription via le lien ci-dessous :  \nhttps://www.helloasso.com/associations/maison-de-quartier-la-touche/evenements/un-ete-a-la-touche
URL:https://www.mqlt.fr/agenda/sortie-photo-decouverte-enfants/
LOCATION:Maison de Quartier La Touche
END:VEVENT
BEGIN:VEVENT
DTSTART;TZID=Europe/Paris:20230713T140000
DTEND;TZID=Europe/Paris:20230713T160000
DTSTAMP:20260423T183839
CREATED:20230405T074440Z
LAST-MODIFIED:20230425T082602Z
UID:16976-1689256800-1689264000@www.mqlt.fr
SUMMARY:Les recettes d'antan
DESCRIPTION:Les recettes d’antan \nJeudi 13 juillet\, de 14h à 16h \nMaison de Quartier La Touche. \n  \nVous êtes à la retraite et souhaitez partager une recette de goûter avec les enfants de l’accueil de loisirs\, et cuisiner avec eux ? Vous êtes les bienvenu· es ! \nSur inscription\, via le lien ci-dessous : \nhttps://www.helloasso.com/associations/maison-de-quartier-la-touche/evenements/un-ete-a-la-touche
URL:https://www.mqlt.fr/agenda/les-recettes-dantan/
LOCATION:Maison de Quartier La Touche
END:VEVENT
END:VCALENDAR