BEGIN:VCALENDAR
VERSION:2.0
PRODID:-//Maison de Quartier La Touche - ECPv6.2.0.1//NONSGML v1.0//EN
CALSCALE:GREGORIAN
METHOD:PUBLISH
X-ORIGINAL-URL:https://www.mqlt.fr
X-WR-CALDESC:évènements pour Maison de Quartier La Touche
REFRESH-INTERVAL;VALUE=DURATION:PT1H
X-Robots-Tag:noindex
X-PUBLISHED-TTL:PT1H
BEGIN:VTIMEZONE
TZID:Europe/Paris
BEGIN:DAYLIGHT
TZOFFSETFROM:+0100
TZOFFSETTO:+0200
TZNAME:CEST
DTSTART:20230326T010000
END:DAYLIGHT
BEGIN:STANDARD
TZOFFSETFROM:+0200
TZOFFSETTO:+0100
TZNAME:CET
DTSTART:20231029T010000
END:STANDARD
END:VTIMEZONE
BEGIN:VEVENT
DTSTART;TZID=Europe/Paris:20230718T180000
DTEND;TZID=Europe/Paris:20230718T210000
DTSTAMP:20260423T182842
CREATED:20230405T075433Z
LAST-MODIFIED:20230425T082037Z
UID:16980-1689703200-1689714000@www.mqlt.fr
SUMMARY:La Touch'Danse
DESCRIPTION:La Touch’Danse \nMardi 18 juillet\, de 18h à 21h \nPlace Simone de Beauvoir. \n  \nUne soirée sous le signe de la danse ! \nAu programme : \n\ndémonstrations\,\ncours en plein air.\n\nC’est aussi l’occasion de tester les danses afro-latines\, le rock’n’roll ou encore le swing.
URL:https://www.mqlt.fr/agenda/la-touchdanse-2/
LOCATION:Maison de Quartier La Touche
END:VEVENT
END:VCALENDAR