BEGIN:VCALENDAR
VERSION:2.0
PRODID:-//Maison de Quartier La Touche - ECPv6.2.0.1//NONSGML v1.0//EN
CALSCALE:GREGORIAN
METHOD:PUBLISH
X-ORIGINAL-URL:https://www.mqlt.fr
X-WR-CALDESC:évènements pour Maison de Quartier La Touche
REFRESH-INTERVAL;VALUE=DURATION:PT1H
X-Robots-Tag:noindex
X-PUBLISHED-TTL:PT1H
BEGIN:VTIMEZONE
TZID:Europe/Paris
BEGIN:DAYLIGHT
TZOFFSETFROM:+0100
TZOFFSETTO:+0200
TZNAME:CEST
DTSTART:20230326T010000
END:DAYLIGHT
BEGIN:STANDARD
TZOFFSETFROM:+0200
TZOFFSETTO:+0100
TZNAME:CET
DTSTART:20231029T010000
END:STANDARD
END:VTIMEZONE
BEGIN:VEVENT
DTSTART;TZID=Europe/Paris:20230721T093000
DTEND;TZID=Europe/Paris:20230721T113000
DTSTAMP:20260423T183839
CREATED:20230405T075730Z
LAST-MODIFIED:20230425T081828Z
UID:16982-1689931800-1689939000@www.mqlt.fr
SUMMARY:Matinée Petite Enfance - Jeux d'eau et bulles
DESCRIPTION:Matinée Petite Enfance – Jeux d’eau et bulles \nLe vendredi 21 juillet\, de 9h30 à 11h30 \nPlace Simone de Beauvoir. \n  \nLes petits s’amusent en se rafraichissant\, en patouillant\, et en s’émerveillant. \n0 – 3 ans
URL:https://www.mqlt.fr/agenda/matinee-petite-enfance-jeux-deau-et-bulles/
LOCATION:Place Simone de Beauvoir\, Place Simone de Beauvoir\, Rennes\, 35000\, France
END:VEVENT
BEGIN:VEVENT
DTSTART;TZID=Europe/Paris:20230721T180000
DTEND;TZID=Europe/Paris:20230721T230000
DTSTAMP:20260423T183839
CREATED:20230405T075939Z
LAST-MODIFIED:20230425T081716Z
UID:16984-1689962400-1689980400@www.mqlt.fr
SUMMARY:Soirée Jeux Vidéo - Jeunesse
DESCRIPTION:Soirée Jeux Vidéo – Jeunesse \nVendredi 21 juillet\, de 18h à 23h \nMaison de Quartier La Touche. \n  \nSoirée jeux vidéo avec les jeunes. Tournois et découverte\, buffet partagé\, amène ton truc à manger\, ambiance assurée ! \nDe 11 à 17 ans.
URL:https://www.mqlt.fr/agenda/soiree-jeux-video-jeunesse/
LOCATION:Maison de Quartier La Touche
END:VEVENT
END:VCALENDAR