BEGIN:VCALENDAR
VERSION:2.0
PRODID:-//Maison de Quartier La Touche - ECPv6.2.0.1//NONSGML v1.0//EN
CALSCALE:GREGORIAN
METHOD:PUBLISH
X-ORIGINAL-URL:https://www.mqlt.fr
X-WR-CALDESC:évènements pour Maison de Quartier La Touche
REFRESH-INTERVAL;VALUE=DURATION:PT1H
X-Robots-Tag:noindex
X-PUBLISHED-TTL:PT1H
BEGIN:VTIMEZONE
TZID:Europe/Paris
BEGIN:DAYLIGHT
TZOFFSETFROM:+0100
TZOFFSETTO:+0200
TZNAME:CEST
DTSTART:20230326T010000
END:DAYLIGHT
BEGIN:STANDARD
TZOFFSETFROM:+0200
TZOFFSETTO:+0100
TZNAME:CET
DTSTART:20231029T010000
END:STANDARD
END:VTIMEZONE
BEGIN:VEVENT
DTSTART;TZID=Europe/Paris:20230824T140000
DTEND;TZID=Europe/Paris:20230824T160000
DTSTAMP:20260423T171150
CREATED:20230405T081037Z
LAST-MODIFIED:20230425T075931Z
UID:16994-1692885600-1692892800@www.mqlt.fr
SUMMARY:Les recettes d'antan
DESCRIPTION:Les recettes d’antan \nJeudi 24 août\, de 14h à 16h  \nMaison de Quartier La Touche. \n  \nVous êtes à la retraite et souhaitez partager une recette de goûter avec les enfants de l’accueil de loisirs\, et cuisiner avec eux ? Vous êtes la bienvenue ! \nSur inscriptions\, via le lien ci-dessous :  \nhttps://www.helloasso.com/associations/maison-de-quartier-la-touche/evenements/un-ete-a-la-touche
URL:https://www.mqlt.fr/agenda/les-recettes-dantan-2/
LOCATION:Maison de Quartier La Touche
END:VEVENT
END:VCALENDAR