BEGIN:VCALENDAR
VERSION:2.0
PRODID:-//Maison de Quartier La Touche - ECPv6.2.0.1//NONSGML v1.0//EN
CALSCALE:GREGORIAN
METHOD:PUBLISH
X-ORIGINAL-URL:https://www.mqlt.fr
X-WR-CALDESC:évènements pour Maison de Quartier La Touche
REFRESH-INTERVAL;VALUE=DURATION:PT1H
X-Robots-Tag:noindex
X-PUBLISHED-TTL:PT1H
BEGIN:VTIMEZONE
TZID:Europe/Paris
BEGIN:DAYLIGHT
TZOFFSETFROM:+0100
TZOFFSETTO:+0200
TZNAME:CEST
DTSTART:20230326T010000
END:DAYLIGHT
BEGIN:STANDARD
TZOFFSETFROM:+0200
TZOFFSETTO:+0100
TZNAME:CET
DTSTART:20231029T010000
END:STANDARD
END:VTIMEZONE
BEGIN:VEVENT
DTSTART;TZID=Europe/Paris:20230910T080000
DTEND;TZID=Europe/Paris:20230910T180000
DTSTAMP:20260423T153633
CREATED:20230824T153458Z
LAST-MODIFIED:20230824T153458Z
UID:17523-1694332800-1694368800@www.mqlt.fr
SUMMARY:Braderie de La Touche
DESCRIPTION:
URL:https://www.mqlt.fr/agenda/braderie-de-la-touche-2/
LOCATION:Quartier La Touche
END:VEVENT
END:VCALENDAR