BEGIN:VCALENDAR
VERSION:2.0
PRODID:-//Maison de Quartier La Touche - ECPv6.2.0.1//NONSGML v1.0//EN
CALSCALE:GREGORIAN
METHOD:PUBLISH
X-WR-CALNAME:Maison de Quartier La Touche
X-ORIGINAL-URL:https://www.mqlt.fr
X-WR-CALDESC:évènements pour Maison de Quartier La Touche
REFRESH-INTERVAL;VALUE=DURATION:PT1H
X-Robots-Tag:noindex
X-PUBLISHED-TTL:PT1H
BEGIN:VTIMEZONE
TZID:Europe/Paris
BEGIN:DAYLIGHT
TZOFFSETFROM:+0100
TZOFFSETTO:+0200
TZNAME:CEST
DTSTART:20230326T010000
END:DAYLIGHT
BEGIN:STANDARD
TZOFFSETFROM:+0200
TZOFFSETTO:+0100
TZNAME:CET
DTSTART:20231029T010000
END:STANDARD
END:VTIMEZONE
BEGIN:VEVENT
DTSTART;TZID=Europe/Paris:20231020T163000
DTEND;TZID=Europe/Paris:20231020T230000
DTSTAMP:20260423T135345
CREATED:20231013T094748Z
LAST-MODIFIED:20231013T095913Z
UID:17676-1697819400-1697842800@www.mqlt.fr
SUMMARY:Les Jeux du Vendredi
DESCRIPTION:De 16h30 à 19h : jeux en famille – De 19h à 23h : soirée jeux \nEnvie de participer aux deux temps ? Prévoyez votre pique-nique !
URL:https://www.mqlt.fr/agenda/soiree-jeux-4/
LOCATION:Maison de Quartier La Touche
END:VEVENT
END:VCALENDAR