BEGIN:VCALENDAR
VERSION:2.0
PRODID:-//Maison de Quartier La Touche - ECPv6.2.0.1//NONSGML v1.0//EN
CALSCALE:GREGORIAN
METHOD:PUBLISH
X-WR-CALNAME:Maison de Quartier La Touche
X-ORIGINAL-URL:https://www.mqlt.fr
X-WR-CALDESC:évènements pour Maison de Quartier La Touche
REFRESH-INTERVAL;VALUE=DURATION:PT1H
X-Robots-Tag:noindex
X-PUBLISHED-TTL:PT1H
BEGIN:VTIMEZONE
TZID:Europe/Paris
BEGIN:DAYLIGHT
TZOFFSETFROM:+0100
TZOFFSETTO:+0200
TZNAME:CEST
DTSTART:20230326T010000
END:DAYLIGHT
BEGIN:STANDARD
TZOFFSETFROM:+0200
TZOFFSETTO:+0100
TZNAME:CET
DTSTART:20231029T010000
END:STANDARD
END:VTIMEZONE
BEGIN:VEVENT
DTSTART;TZID=Europe/Paris:20231026T140000
DTEND;TZID=Europe/Paris:20231026T160000
DTSTAMP:20260423T135431
CREATED:20230926T090028Z
LAST-MODIFIED:20230926T090028Z
UID:17606-1698328800-1698336000@www.mqlt.fr
SUMMARY:Séance Thématique - Initiation Vidéo: montage de l'interview. partie 2
DESCRIPTION:Initiation au montage sur Adobe Premiere Pro\, Dérushage\, création et organisation du projet\, coupes\, niveaux audio\, astuces\, export…
URL:https://www.mqlt.fr/agenda/seance-thematique-initiation-video-montage-de-linterview-partie-2/
LOCATION:Maison de Quartier La Touche
END:VEVENT
END:VCALENDAR