BEGIN:VCALENDAR
VERSION:2.0
PRODID:-//Maison de Quartier La Touche - ECPv6.2.0.1//NONSGML v1.0//EN
CALSCALE:GREGORIAN
METHOD:PUBLISH
X-WR-CALNAME:Maison de Quartier La Touche
X-ORIGINAL-URL:https://www.mqlt.fr
X-WR-CALDESC:évènements pour Maison de Quartier La Touche
REFRESH-INTERVAL;VALUE=DURATION:PT1H
X-Robots-Tag:noindex
X-PUBLISHED-TTL:PT1H
BEGIN:VTIMEZONE
TZID:Europe/Paris
BEGIN:DAYLIGHT
TZOFFSETFROM:+0100
TZOFFSETTO:+0200
TZNAME:CEST
DTSTART:20230326T010000
END:DAYLIGHT
BEGIN:STANDARD
TZOFFSETFROM:+0200
TZOFFSETTO:+0100
TZNAME:CET
DTSTART:20231029T010000
END:STANDARD
END:VTIMEZONE
BEGIN:VEVENT
DTSTART;TZID=Europe/Paris:20230601T140000
DTEND;TZID=Europe/Paris:20230601T160000
DTSTAMP:20260423T184236
CREATED:20230425T141333Z
LAST-MODIFIED:20230425T141333Z
UID:17156-1685628000-1685635200@www.mqlt.fr
SUMMARY:Séance thématique - Outils numériques et participation citoyenne
DESCRIPTION:Programme complet : https://www.mqlt.fr/programme-des-seances-thematiques-mai-juillet-2023/
URL:https://www.mqlt.fr/agenda/seance-thematique-outils-numeriques-et-participation-citoyenne/
LOCATION:Maison de Quartier La Touche
END:VEVENT
BEGIN:VEVENT
DTSTART;TZID=Europe/Paris:20230603T093000
DTEND;TZID=Europe/Paris:20230603T113000
DTSTAMP:20260423T184236
CREATED:20230411T093858Z
LAST-MODIFIED:20230411T093921Z
UID:17070-1685784600-1685791800@www.mqlt.fr
SUMMARY:Marmouz - Rouli Bouli
DESCRIPTION:Marmouz est un atelier adapté aux 0 – 3 ans qui regroupe la motricité\, le ludique avec de multiples jeux et jouets à thème\, ainsi qu’un temps créatif et artistique. \n\nLe samedi 3 juin\, de 9h30 à 11h30 : “Rouli Bouli”\n\n2€ par enfant / séance \nPensez à vous inscrire\, par mail\, à magali@mqlt.fr \n 
URL:https://www.mqlt.fr/agenda/marmouz-rouli-bouli/
LOCATION:Maison de Quartier La Touche
END:VEVENT
BEGIN:VEVENT
DTSTART;TZID=Europe/Paris:20230606T100000
DTEND;TZID=Europe/Paris:20230606T120000
DTSTAMP:20260423T184236
CREATED:20230524T081507Z
LAST-MODIFIED:20230524T081507Z
UID:17234-1686045600-1686052800@www.mqlt.fr
SUMMARY:Café Couture
DESCRIPTION:À partir de septembre : \nFabriquez ou transformez vos propres vêtements et accessoires personnalisés grâce à la couture. \nSophie\,  votre animatrice vous accompagnera dans vos projets ! Passionnée par la transformation des matières premières\, Sophie est modéliste couturière de métier\, à partir du choix du projet elle vous conseillera\, et vous guidera jusqu’à l’aboutissement de votre projet lors d’ateliers de couture de 3 h. Un groupe d’entraide Whatsapp vous sera dédié : couture\, astuces\, manifestations et bons plans pour vos matières premières… Un cours le matin\, un cours en soirée selon les emplois du temps de chacun(e) \n60 € par trimestre\, 180 € pour l’année \nEn attendant\, venez faire la connaissance de Sophie\, et échanger lors d’un café couture le mardi 6 juin à 10h ou à 18h. \nA cette occasion vous pourrez découvrir une présentation de réalisations. \nGratuit\, sans inscription
URL:https://www.mqlt.fr/agenda/cafe-couture/
LOCATION:Maison de Quartier La Touche
END:VEVENT
BEGIN:VEVENT
DTSTART;TZID=Europe/Paris:20230606T143000
DTEND;TZID=Europe/Paris:20230606T163000
DTSTAMP:20260423T184236
CREATED:20230407T081657Z
LAST-MODIFIED:20230526T083730Z
UID:17041-1686061800-1686069000@www.mqlt.fr
SUMMARY:Les Mardis du Parc
DESCRIPTION:Secteur Seniors \nLe mardi 06 juin\, de 14h à 16h \nVenez partager un moment convivial au parc St Cyr autour d’une veillée d’après-midi. Au programme : jeux\, discussion\, chant\, musique\, partage\, etc.\nNous invitons les participants à venir avec un ami\, un voisin\, un parent. Gratuit et sans inscription. \n 
URL:https://www.mqlt.fr/agenda/secteur-seniors/
LOCATION:Maison de Quartier La Touche
END:VEVENT
BEGIN:VEVENT
DTSTART;TZID=Europe/Paris:20230606T180000
DTEND;TZID=Europe/Paris:20230606T190000
DTSTAMP:20260423T184236
CREATED:20230524T081537Z
LAST-MODIFIED:20230524T081537Z
UID:17235-1686074400-1686078000@www.mqlt.fr
SUMMARY:Café Couture
DESCRIPTION:À partir de septembre : \nFabriquez ou transformez vos propres vêtements et accessoires personnalisés grâce à la couture. \nSophie\,  votre animatrice vous accompagnera dans vos projets ! Passionnée par la transformation des matières premières\, Sophie est modéliste couturière de métier\, à partir du choix du projet elle vous conseillera\, et vous guidera jusqu’à l’aboutissement de votre projet lors d’ateliers de couture de 3 h. Un groupe d’entraide Whatsapp vous sera dédié : couture\, astuces\, manifestations et bons plans pour vos matières premières… Un cours le matin\, un cours en soirée selon les emplois du temps de chacun(e) \n60 € par trimestre\, 180 € pour l’année \nEn attendant\, venez faire la connaissance de Sophie\, et échanger lors d’un café couture le mardi 6 juin à 10h ou à 18h. \nA cette occasion vous pourrez découvrir une présentation de réalisations. \nGratuit\, sans inscription
URL:https://www.mqlt.fr/agenda/cafe-couture-2/
LOCATION:Maison de Quartier La Touche
END:VEVENT
BEGIN:VEVENT
DTSTART;TZID=Europe/Paris:20230606T184500
DTEND;TZID=Europe/Paris:20230606T194500
DTSTAMP:20260423T184236
CREATED:20230316T100331Z
LAST-MODIFIED:20230316T100331Z
UID:16868-1686077100-1686080700@www.mqlt.fr
SUMMARY:Sophrologie : être aligné·e avec ses valeurs
DESCRIPTION:Le mardi 6 juin de 18h45 à 19h45.  \nThème : être aligné·e avec ses valeurs. \nGroupe limité à 10 personnes. \nAbonnement au trimestre 110€ soit 10€ par séance ou à l’unité à 15€ la séance. \nRéservation par mail à : \ncontact@paulinepoirier.fr \nOu par téléphone au : \n06.52.59.62.98.
URL:https://www.mqlt.fr/agenda/sophrologie-etre-aligne%c2%b7e-avec-ses-valeurs/
LOCATION:Maison de Quartier La Touche
END:VEVENT
BEGIN:VEVENT
DTSTART;TZID=Europe/Paris:20230607T173000
DTEND;TZID=Europe/Paris:20230607T183000
DTSTAMP:20260423T184236
CREATED:20230524T093201Z
LAST-MODIFIED:20230524T093201Z
UID:17239-1686159000-1686162600@www.mqlt.fr
SUMMARY:Vernissage Exposition - Annie Filâtre
DESCRIPTION:Participez au vernissage de l’artiste qui expose ses créations dans nos locaux\, et initiez-vous par la même occasion le calame ! \nGratuit\, sans inscription \n \n 
URL:https://www.mqlt.fr/agenda/vernissage-exposition-annie-filatre/
LOCATION:Maison de Quartier La Touche
END:VEVENT
BEGIN:VEVENT
DTSTART;TZID=Europe/Paris:20230609T140000
DTEND;TZID=Europe/Paris:20230609T160000
DTSTAMP:20260423T184236
CREATED:20230425T141532Z
LAST-MODIFIED:20230425T141532Z
UID:17158-1686319200-1686326400@www.mqlt.fr
SUMMARY:Séance thématique - Eviter les arnaques en ligne
DESCRIPTION:Programme complet : https://www.mqlt.fr/programme-des-seances-thematiques-mai-juillet-2023/
URL:https://www.mqlt.fr/agenda/seance-thematique-eviter-les-arnaques-en-ligne/
LOCATION:Maison de Quartier La Touche
END:VEVENT
BEGIN:VEVENT
DTSTART;TZID=Europe/Paris:20230609T150000
DTEND;TZID=Europe/Paris:20230609T190000
DTSTAMP:20260423T184236
CREATED:20230524T093551Z
LAST-MODIFIED:20230524T093613Z
UID:17243-1686322800-1686337200@www.mqlt.fr
SUMMARY:Forum - Droits & Loisirs
DESCRIPTION:Les partenaires des Quartiers Ouest vous proposent ce temps pour vous informer : transport\, loisirs\, culture\, vacances\, logement\, droits sociaux… Venez à notre rencontre ! \nGratuit\, sans inscription – Square des Oliviers (Cleunay) \n 
URL:https://www.mqlt.fr/agenda/forum-droits-loisirs/
LOCATION:Square des Oliviers\, Square des Oliviers\, Rennes
END:VEVENT
BEGIN:VEVENT
DTSTART;TZID=Europe/Paris:20230613T140000
DTEND;TZID=Europe/Paris:20230613T160000
DTSTAMP:20260423T184236
CREATED:20230407T082004Z
LAST-MODIFIED:20230407T082004Z
UID:17043-1686664800-1686672000@www.mqlt.fr
SUMMARY:Secteur Seniors : Après-midi jeux traditionnel
DESCRIPTION:Secteur Seniors : Après-midi jeux traditionnel. \nLe Mardi 13 Juin de 14h à 16h. \nAu programme : \n\npalet\npétanque.
URL:https://www.mqlt.fr/agenda/secteur-seniors-apres-midi-jeux-traditionnel/
LOCATION:Maison de Quartier La Touche
END:VEVENT
BEGIN:VEVENT
DTSTART;TZID=Europe/Paris:20230613T184500
DTEND;TZID=Europe/Paris:20230613T194500
DTSTAMP:20260423T184236
CREATED:20230316T100521Z
LAST-MODIFIED:20230316T100521Z
UID:16870-1686681900-1686685500@www.mqlt.fr
SUMMARY:Sophrologie : Développer sa force intérieure
DESCRIPTION:Le mardi 13 juin de 18h45 à 19h45.  \nThème : développer sa force intérieure \nGroupe limité à 10 personnes. \nAbonnement au trimestre 110€ soit 10€ par séance ou à l’unité à 15€ la séance. \nRéservation par mail à : \ncontact@paulinepoirier.fr \nOu par téléphone au : \n06.52.59.62.98.
URL:https://www.mqlt.fr/agenda/sophrologie-developper-sa-force-interieure/
LOCATION:Maison de Quartier La Touche
END:VEVENT
BEGIN:VEVENT
DTSTART;TZID=Europe/Paris:20230616T140000
DTEND;TZID=Europe/Paris:20230616T160000
DTSTAMP:20260423T184236
CREATED:20230425T141624Z
LAST-MODIFIED:20230425T141624Z
UID:17160-1686924000-1686931200@www.mqlt.fr
SUMMARY:Séance thématique - Smartphone et tablette
DESCRIPTION:Programme complet : https://www.mqlt.fr/programme-des-seances-thematiques-mai-juillet-2023/
URL:https://www.mqlt.fr/agenda/seance-thematique-smartphone-et-tablette/
LOCATION:Maison de Quartier La Touche
END:VEVENT
BEGIN:VEVENT
DTSTART;TZID=Europe/Paris:20230617T140000
DTEND;TZID=Europe/Paris:20230617T180000
DTSTAMP:20260423T184236
CREATED:20230504T140224Z
LAST-MODIFIED:20230504T140224Z
UID:17204-1687010400-1687024800@www.mqlt.fr
SUMMARY:Urban Grégoire - Jeunesse
DESCRIPTION:Urban Grégoire – Jeunesse  \nSamedi 17 Juin de 14h à 18h.  \nÉvènement autour des pratiques urbaines (skate\, graffiti\, basket\, freestyle…) \n \n  \n 
URL:https://www.mqlt.fr/agenda/urban-gregoire-jeunesse/
LOCATION:Maison de Quartier La Touche
END:VEVENT
BEGIN:VEVENT
DTSTART;TZID=Europe/Paris:20230620T140000
DTEND;TZID=Europe/Paris:20230620T153000
DTSTAMP:20260423T184236
CREATED:20230407T082236Z
LAST-MODIFIED:20230526T083023Z
UID:17045-1687269600-1687275000@www.mqlt.fr
SUMMARY:Secteur Seniors : Café Philo
DESCRIPTION:Café Philo pour les seniors  \n“Ça veut dire quoi\, vivre ensemble ?” \nLe Mardi 20 Juin de 14h à 15h30. \nSur inscription – 8€.
URL:https://www.mqlt.fr/agenda/secteur-seniors-cafe-philo/
LOCATION:Maison de Quartier La Touche
END:VEVENT
BEGIN:VEVENT
DTSTART;TZID=Europe/Paris:20230620T184500
DTEND;TZID=Europe/Paris:20230620T194500
DTSTAMP:20260423T184236
CREATED:20230316T100718Z
LAST-MODIFIED:20230316T100718Z
UID:16872-1687286700-1687290300@www.mqlt.fr
SUMMARY:Sophrologie : Oser s'affirmer
DESCRIPTION:Le mardi 20 juin de 18h45 à 19h45.  \nThème : Oser s’affirmer. \nGroupe limité à 10 personnes. \nAbonnement au trimestre 110€ soit 10€ par séance ou à l’unité à 15€ la séance. \nRéservation par mail à : \ncontact@paulinepoirier.fr \nOu par téléphone au : \n06.52.59.62.98.
URL:https://www.mqlt.fr/agenda/sophrologie-oser-saffirmer/
LOCATION:Maison de Quartier La Touche
END:VEVENT
BEGIN:VEVENT
DTSTART;TZID=Europe/Paris:20230622T140000
DTEND;TZID=Europe/Paris:20230622T160000
DTSTAMP:20260423T184236
CREATED:20230425T141715Z
LAST-MODIFIED:20230425T141715Z
UID:17162-1687442400-1687449600@www.mqlt.fr
SUMMARY:Séance thématique - Intelligences artificielles
DESCRIPTION:Programme complet : https://www.mqlt.fr/programme-des-seances-thematiques-mai-juillet-2023/
URL:https://www.mqlt.fr/agenda/seance-thematique-intelligences-artificielles/
LOCATION:Maison de Quartier La Touche
END:VEVENT
BEGIN:VEVENT
DTSTART;TZID=Europe/Paris:20230624T140000
DTEND;TZID=Europe/Paris:20230624T180000
DTSTAMP:20260423T184236
CREATED:20230504T140357Z
LAST-MODIFIED:20230504T140357Z
UID:17206-1687615200-1687629600@www.mqlt.fr
SUMMARY:Session Freestyle Football - Jeunesse
DESCRIPTION:Session Freestyle Football – Jeunesse  \nLe samedi 24 Juin de 14h à 18h.  \nAu programme : \n\ndécouverte\ndémo\ninitiation
URL:https://www.mqlt.fr/agenda/session-freestyle-football-jeunesse/
LOCATION:Maison de Quartier La Touche
END:VEVENT
BEGIN:VEVENT
DTSTART;TZID=Europe/Paris:20230627T140000
DTEND;TZID=Europe/Paris:20230627T180000
DTSTAMP:20260423T184236
CREATED:20230407T082506Z
LAST-MODIFIED:20230407T082506Z
UID:17047-1687874400-1687888800@www.mqlt.fr
SUMMARY:Secteur Seniors : Après-midi jeux
DESCRIPTION:Secteur Seniors : Après-midi jeux \n(tarot\, belote\, scrabble) \nLe Mardi 27 Juin de 14h à 18h. \n1\,5€
URL:https://www.mqlt.fr/agenda/secteur-seniors-apres-midi-jeux-7/
LOCATION:Maison de Quartier La Touche
END:VEVENT
BEGIN:VEVENT
DTSTART;TZID=Europe/Paris:20230627T184500
DTEND;TZID=Europe/Paris:20230627T194500
DTSTAMP:20260423T184236
CREATED:20230316T100930Z
LAST-MODIFIED:20230316T100930Z
UID:16874-1687891500-1687895100@www.mqlt.fr
SUMMARY:Sophrologie : Faire le plein de vitalité pour l'été
DESCRIPTION:Le mardi 27 juin de 18h45 à 19h45.  \nThème : faire le plein de vitalité pour l’été. \nGroupe limité à 10 personnes. \nAbonnement au trimestre 110€ soit 10€ par séance ou à l’unité à 15€ la séance. \nRéservation par mail à : \ncontact@paulinepoirier.fr \nOu par téléphone au : \n06.52.59.62.98.
URL:https://www.mqlt.fr/agenda/sophrologie-faire-le-plein-de-vitalite-pour-lete/
LOCATION:Maison de Quartier La Touche
END:VEVENT
BEGIN:VEVENT
DTSTART;TZID=Europe/Paris:20230629T093000
DTEND;TZID=Europe/Paris:20230629T113000
DTSTAMP:20260423T184236
CREATED:20230405T070851Z
LAST-MODIFIED:20230405T070851Z
UID:16956-1688031000-1688038200@www.mqlt.fr
SUMMARY:Touch'Estivale - Fête de la Musique des Bébés
DESCRIPTION:Touch’Estivale – Fête de la Musique des Bébés \nJeudi 29 juin\, de 9h30 à 11h30\, Place Simone de Beauvoir.\n \nCette matinée\, ouverte à tous les publics\, est orientée autour des activités des enfants de 0 à 3 ans. \nAu programme : \n\nde nombreux espaces de jeux\,\nparcours sensoriel\,\njeux de sable\,\njouets de la ludothèque\,\nespace lecture\,\njeux de construction\,\nparcours de motricité…
URL:https://www.mqlt.fr/agenda/touchestivale-fete-de-la-musique-des-bebes/
LOCATION:Place Simone de Beauvoir\, Place Simone de Beauvoir\, Rennes\, 35000\, France
END:VEVENT
BEGIN:VEVENT
DTSTART;TZID=Europe/Paris:20230629T140000
DTEND;TZID=Europe/Paris:20230629T170000
DTSTAMP:20260423T184236
CREATED:20230405T071317Z
LAST-MODIFIED:20230405T071317Z
UID:16958-1688047200-1688058000@www.mqlt.fr
SUMMARY:Touch'Estivale - Fête des seniors
DESCRIPTION:Touch’Estivale – Fête des seniors \nJeudi 29 juin\, de 14h à 17h \nPlace Simone De Beauvoir \nUn après-midi d’animations\, de jeux traditionnels. Ouvert à tout public. \nAu programme : \n\npalets\,\ncrapaud\,\nboite à case\,\nplanche à ressort\,\npétanque.
URL:https://www.mqlt.fr/agenda/touchestivale-fete-des-seniors/
LOCATION:Place Simone de Beauvoir\, Place Simone de Beauvoir\, Rennes\, 35000\, France
END:VEVENT
BEGIN:VEVENT
DTSTART;TZID=Europe/Paris:20230630T170000
DTEND;TZID=Europe/Paris:20230701T000000
DTSTAMP:20260423T184236
CREATED:20230405T071854Z
LAST-MODIFIED:20230526T085857Z
UID:16960-1688144400-1688169600@www.mqlt.fr
SUMMARY:Friday Night Fever - Touch'Estivale
DESCRIPTION:𝗩𝗲𝗻𝗱𝗿𝗲𝗱𝗶 𝟯𝟬 𝗷𝘂𝗶𝗻 · 𝟭𝟳𝗵 – 𝟬𝟬𝗵\n\nUn événement de quartier\, ancré dans la “Touch’Estivale”\, où le disco revient en force ! \n\nLors de la 𝗙𝗿𝗶𝗱𝗮𝘆 𝗡𝗶𝗴𝗵𝘁 𝗙𝗲𝘃𝗲𝗿\, seront programmés un karaoké géant\, du roller\, un spectacle de drag queen\, un concert et un dj set \n\nUn espace restauration est mis à disposition pour les habitant·es\, avec du sucré et du salé. \nUn bar accompagne le tout\, pour se rafraîchir à tout moment ! \n\n(Re)découvrez : 𝘽𝙧𝙤𝙖𝙙𝙬𝙖𝙮 𝙁𝙧𝙚𝙣𝙘𝙝 · 𝘿𝙞𝙨𝙘𝙤 𝙛𝙪𝙩𝙪𝙧𝙚\n\nAnimations sur place : 𝘒𝘢𝘳𝘢𝘰𝘬𝘦́ 𝘨𝘦́𝘢𝘯𝘵 · 𝘑𝘦𝘶𝘹 𝘨𝘦́𝘢𝘯𝘵𝘴 · 𝘙𝘰𝘭𝘭𝘦𝘳 𝘗𝘢𝘳𝘵𝘺 · 𝘚𝘵𝘢𝘯𝘥 𝘱𝘢𝘪𝘭𝘭𝘦𝘵𝘵𝘦𝘴 · 𝘊𝘳𝘦́𝘢𝘵𝘪𝘰𝘯 𝘥𝘦 𝘣𝘰𝘶𝘭𝘦𝘴 𝘢̀ 𝘧𝘢𝘤𝘦𝘵𝘵𝘦𝘴 · 𝘌𝘴𝘱𝘢𝘤𝘦 𝘱𝘦𝘵𝘪𝘵𝘦 𝘦𝘯𝘧𝘢𝘯𝘤𝘦 · 𝘉𝘢𝘳 · 𝘙𝘦𝘴𝘵𝘢𝘶𝘳𝘢𝘵𝘪𝘰𝘯\n\nLIEU : Place Simone de Beauvoir\nORGANISATEUR : Maison de Quartier La Touche\nOUVERT À : Toutes et à tous \n𝘋𝘢𝘯𝘴 𝘭𝘦 𝘤𝘢𝘥𝘳𝘦 𝘥𝘦 “𝘊𝘦𝘵 𝘌́𝘵𝘦́ 𝘢̀ 𝘙𝘦𝘯𝘯𝘦𝘴”\n 
URL:https://www.mqlt.fr/agenda/touchestivale-friday-night-fever/
LOCATION:Place Simone de Beauvoir\, Place Simone de Beauvoir\, Rennes\, 35000\, France
END:VEVENT
END:VCALENDAR