BEGIN:VCALENDAR
VERSION:2.0
PRODID:-//Maison de Quartier La Touche - ECPv6.2.0.1//NONSGML v1.0//EN
CALSCALE:GREGORIAN
METHOD:PUBLISH
X-ORIGINAL-URL:https://www.mqlt.fr
X-WR-CALDESC:évènements pour Maison de Quartier La Touche
REFRESH-INTERVAL;VALUE=DURATION:PT1H
X-Robots-Tag:noindex
X-PUBLISHED-TTL:PT1H
BEGIN:VTIMEZONE
TZID:Europe/Paris
BEGIN:DAYLIGHT
TZOFFSETFROM:+0100
TZOFFSETTO:+0200
TZNAME:CEST
DTSTART:20230326T010000
END:DAYLIGHT
BEGIN:STANDARD
TZOFFSETFROM:+0200
TZOFFSETTO:+0100
TZNAME:CET
DTSTART:20231029T010000
END:STANDARD
END:VTIMEZONE
BEGIN:VEVENT
DTSTART;TZID=Europe/Paris:20230902T133000
DTEND;TZID=Europe/Paris:20230902T150000
DTSTAMP:20260423T135803
CREATED:20230824T123249Z
LAST-MODIFIED:20230824T123249Z
UID:17505-1693661400-1693666800@www.mqlt.fr
SUMMARY:Découverte de la cuisine japonaise
DESCRIPTION:
URL:https://www.mqlt.fr/agenda/decouverte-de-la-cuisine-japonaise/
LOCATION:Maison de Quartier La Touche
END:VEVENT
BEGIN:VEVENT
DTSTART;TZID=Europe/Paris:20230905T143000
DTEND;TZID=Europe/Paris:20230905T163000
DTSTAMP:20260423T135803
CREATED:20230526T083709Z
LAST-MODIFIED:20230526T083726Z
UID:17275-1693924200-1693931400@www.mqlt.fr
SUMMARY:Les Mardis du Parc
DESCRIPTION:Secteur Seniors \nLe mardi 5 septembre\, de 14h30 à 16h30 \nVenez partager un moment convivial au parc St Cyr autour d’une veillée d’après-midi. Au programme : jeux\, discussion\, chant\, musique\, partage\, etc.\nNous invitons les participants à venir avec un ami\, un voisin\, un parent. Gratuit et sans inscription.
URL:https://www.mqlt.fr/agenda/les-mardis-du-parc-2/
LOCATION:Parc St-Cyr
END:VEVENT
BEGIN:VEVENT
DTSTART;TZID=Europe/Paris:20230910T080000
DTEND;TZID=Europe/Paris:20230910T180000
DTSTAMP:20260423T135803
CREATED:20230824T153458Z
LAST-MODIFIED:20230824T153458Z
UID:17523-1694332800-1694368800@www.mqlt.fr
SUMMARY:Braderie de La Touche
DESCRIPTION:
URL:https://www.mqlt.fr/agenda/braderie-de-la-touche-2/
LOCATION:Quartier La Touche
END:VEVENT
BEGIN:VEVENT
DTSTART;TZID=Europe/Paris:20230928T140000
DTEND;TZID=Europe/Paris:20230928T160000
DTSTAMP:20260423T135803
CREATED:20230926T083427Z
LAST-MODIFIED:20230926T083427Z
UID:17599-1695909600-1695916800@www.mqlt.fr
SUMMARY:Séance thématique - Fichiers\, dossiers\, Comment s'y retrouver ?
DESCRIPTION:Fichiers\, dossiers\, archivage\, rangement\, organisation\, explorateur de fichiers\, arborescence\, sélection multiple\, copier-coller\, glisser-déposer…
URL:https://www.mqlt.fr/agenda/seance-thematique-fichiers-dossiers-comment-sy-retrouver/
LOCATION:Maison de Quartier La Touche
END:VEVENT
BEGIN:VEVENT
DTSTART;TZID=Europe/Paris:20230930T100000
DTEND;TZID=Europe/Paris:20230930T110000
DTSTAMP:20260423T135803
CREATED:20230824T150035Z
LAST-MODIFIED:20230824T150035Z
UID:17518-1696068000-1696071600@www.mqlt.fr
SUMMARY:Yoga - Parent & Enfant
DESCRIPTION:
URL:https://www.mqlt.fr/agenda/yoga-parent-enfant/
LOCATION:Maison de Quartier La Touche
END:VEVENT
END:VCALENDAR