BEGIN:VCALENDAR
VERSION:2.0
PRODID:-//Maison de Quartier La Touche - ECPv6.2.0.1//NONSGML v1.0//EN
CALSCALE:GREGORIAN
METHOD:PUBLISH
X-WR-CALNAME:Maison de Quartier La Touche
X-ORIGINAL-URL:https://www.mqlt.fr
X-WR-CALDESC:évènements pour Maison de Quartier La Touche
REFRESH-INTERVAL;VALUE=DURATION:PT1H
X-Robots-Tag:noindex
X-PUBLISHED-TTL:PT1H
BEGIN:VTIMEZONE
TZID:Europe/Paris
BEGIN:DAYLIGHT
TZOFFSETFROM:+0100
TZOFFSETTO:+0200
TZNAME:CEST
DTSTART:20230326T010000
END:DAYLIGHT
BEGIN:STANDARD
TZOFFSETFROM:+0200
TZOFFSETTO:+0100
TZNAME:CET
DTSTART:20231029T010000
END:STANDARD
END:VTIMEZONE
BEGIN:VEVENT
DTSTART;TZID=Europe/Paris:20231109T140000
DTEND;TZID=Europe/Paris:20231109T160000
DTSTAMP:20260423T103811
CREATED:20230926T090149Z
LAST-MODIFIED:20230926T090149Z
UID:17608-1699538400-1699545600@www.mqlt.fr
SUMMARY:Séance Thématique - Transfert de fichiers volumineux
DESCRIPTION:Identifiez des fichiers volumineux et découvrez comment les transférer en utilisant des plateformes de transfert comme Wetransfer\, Smash\, Grosfichiers…
URL:https://www.mqlt.fr/agenda/seance-thematique-transfert-de-fichiers-volumineux/
LOCATION:Maison de Quartier La Touche
END:VEVENT
BEGIN:VEVENT
DTSTART;TZID=Europe/Paris:20231116T140000
DTEND;TZID=Europe/Paris:20231116T160000
DTSTAMP:20260423T103811
CREATED:20230926T091609Z
LAST-MODIFIED:20230926T091609Z
UID:17610-1700143200-1700150400@www.mqlt.fr
SUMMARY:Séance Thématique -  Séance animée par les étudiant·es de la licence pro USETIC Rennes 2
DESCRIPTION:1. Découvrir l’univers des applications mobiles \n2. Réaliser des quizz en ligne
URL:https://www.mqlt.fr/agenda/seance-thematique-seance-animee-par-les-etudiant%c2%b7es-de-la-licence-pro-usetic-rennes-2/
LOCATION:Maison de Quartier La Touche
END:VEVENT
BEGIN:VEVENT
DTSTART;TZID=Europe/Paris:20231118T093000
DTEND;TZID=Europe/Paris:20231118T113000
DTSTAMP:20260423T103811
CREATED:20231019T091716Z
LAST-MODIFIED:20231019T091716Z
UID:17712-1700299800-1700307000@www.mqlt.fr
SUMMARY:Marmouz - L'Automne
DESCRIPTION:Deuxième Marmouz de la saison : un atelier adapté aux 0 – 3 ans\, qui regroupe la motricité\, le ludique avec de multiples jouets à thème\, ainsi qu’un temps créatif et artistique. \nLa samedi 18 novembre\, de 9h30 à 11h30 \n3€ pour les adhérent·es\n5 € pour les non-adhérent·es\nInscriptions auprès de Magali à magali@mqlt.fr
URL:https://www.mqlt.fr/agenda/marmouz-lautomne/
LOCATION:Maison de Quartier La Touche
END:VEVENT
BEGIN:VEVENT
DTSTART;TZID=Europe/Paris:20231123T140000
DTEND;TZID=Europe/Paris:20231123T160000
DTSTAMP:20260423T103811
CREATED:20230926T091823Z
LAST-MODIFIED:20230926T091823Z
UID:17612-1700748000-1700755200@www.mqlt.fr
SUMMARY:Séance Thématique - Création d'un album photo
DESCRIPTION:Découvrez et créez facilement un album photo en ligne sur Photobox. Venez avec vos photos !
URL:https://www.mqlt.fr/agenda/seance-thematique-creation-dun-album-photo/
LOCATION:Maison de Quartier La Touche
END:VEVENT
BEGIN:VEVENT
DTSTART;TZID=Europe/Paris:20231125T200000
DTEND;TZID=Europe/Paris:20231126T050000
DTSTAMP:20260423T103811
CREATED:20230926T081037Z
LAST-MODIFIED:20230926T081037Z
UID:17592-1700942400-1700974800@www.mqlt.fr
SUMMARY:Nuit du Jeu
DESCRIPTION:SAMEDI 25 NOVEMBRE – DE 20H À 5H DU MATIN \n𝐔𝐧𝐞 𝐧𝐮𝐢𝐭 𝐩𝐨𝐮𝐫 𝐭𝐨𝐮𝐭𝐞𝐬 𝐞𝐭 𝐭𝐨𝐮𝐬\, 𝐨𝐮̀ 𝐣𝐨𝐮𝐞𝐫 𝐞𝐬𝐭 𝐋𝐄 𝐦𝐨𝐭 𝐝’𝐨𝐫𝐝𝐫𝐞. 𝐀𝐮 𝐩𝐫𝐨𝐠𝐫𝐚𝐦𝐦𝐞 : 𝐣𝐞𝐮𝐱 𝐝𝐞 𝐬𝐨𝐜𝐢𝐞́𝐭𝐞́\, 𝐣𝐞𝐮𝐱 𝐝𝐞 𝐫𝐨̂𝐥𝐞\, 𝐣𝐞𝐮𝐱 𝐯𝐢𝐝𝐞́𝐨\, 𝐞𝐭 𝐛𝐢𝐞𝐧 𝐩𝐥𝐮𝐬 𝐞𝐧𝐜𝐨𝐫𝐞. \n𝘾𝒆𝙩 𝙚́𝒗𝙚́𝒏𝙚𝒎𝙚𝒏𝙩 𝙚𝒔𝙩 𝙜𝒓𝙖𝒕𝙪𝒊𝙩. 𝑹𝙚𝒕𝙧𝒐𝙪𝒗𝙚𝒛 𝒏𝙤𝒔 𝒂𝙨𝒔𝙤𝒄𝙞𝒂𝙩𝒊𝙤𝒏𝙨 𝙥𝒂𝙧𝒕𝙚𝒏𝙖𝒊𝙧𝒆𝙨 𝙦𝒖𝙞 𝙖𝒔𝙨𝒖𝙧𝒆𝙧𝒐𝙣𝒕 𝒍𝙚𝒔 𝒂𝙣𝒊𝙢𝒂𝙩𝒊𝙤𝒏𝙨. 𝑼𝙣 𝙘𝒐𝙞𝒏 𝒈𝙧𝒊𝙜𝒏𝙤𝒕𝙖𝒈𝙚 𝙨𝒆𝙧𝒂 𝒅𝙞𝒔𝙥𝒐𝙣𝒊𝙗𝒍𝙚 𝙨𝒖𝙧 𝙥𝒍𝙖𝒄𝙚 ! \n𝑅𝘦𝑡𝘳𝑜𝘶𝑣𝘦𝑧 𝑝𝘳𝑜𝘤ℎ𝘢𝑖𝘯𝑒𝘮𝑒𝘯𝑡 𝑙𝘢 𝘭𝑖𝘴𝑡𝘦 𝘥𝑒𝘴 𝘢𝑠𝘴𝑜𝘤𝑖𝘢𝑡𝘪𝑜𝘯𝑠 𝑝𝘳𝑒́𝘴𝑒𝘯𝑡𝘦𝑠 𝑠𝘶𝑟 𝑙’𝑒́𝘷𝑒́𝘯𝑒𝘮𝑒𝘯𝑡
URL:https://www.mqlt.fr/agenda/nuit-du-jeu-2/
LOCATION:Maison de Quartier La Touche
END:VEVENT
END:VCALENDAR