BEGIN:VCALENDAR
VERSION:2.0
PRODID:-//Maison de Quartier La Touche - ECPv6.2.0.1//NONSGML v1.0//EN
CALSCALE:GREGORIAN
METHOD:PUBLISH
X-WR-CALNAME:Maison de Quartier La Touche
X-ORIGINAL-URL:https://www.mqlt.fr
X-WR-CALDESC:évènements pour Maison de Quartier La Touche
REFRESH-INTERVAL;VALUE=DURATION:PT1H
X-Robots-Tag:noindex
X-PUBLISHED-TTL:PT1H
BEGIN:VTIMEZONE
TZID:Europe/Paris
BEGIN:DAYLIGHT
TZOFFSETFROM:+0100
TZOFFSETTO:+0200
TZNAME:CEST
DTSTART:20230326T010000
END:DAYLIGHT
BEGIN:STANDARD
TZOFFSETFROM:+0200
TZOFFSETTO:+0100
TZNAME:CET
DTSTART:20231029T010000
END:STANDARD
END:VTIMEZONE
BEGIN:VEVENT
DTSTART;TZID=Europe/Paris:20231202T130000
DTEND;TZID=Europe/Paris:20231202T180000
DTSTAMP:20260421T093420
CREATED:20230707T095432Z
LAST-MODIFIED:20230707T095432Z
UID:17336-1701522000-1701540000@www.mqlt.fr
SUMMARY:Les Ateliers Créatifs
DESCRIPTION:Une journée sous le signe de la convivialité et du partage !\n\nRetrouvez une dizaine d’artiste d’univers différents\, le samedi 2 décembre\, de 13h à 18h.\n\nIls·elles exposeront leurs œuvres\, et proposeront un mini-atelier en rapport avec leurs pratiques respectives : peinture\, sculpture\, dessin…\nCirculez à travers les stands\, arrêtez-vous\, installez-vous\, et profitez !\n\nUn coup de cœur pour l’une de leurs œuvres ? Il sera également possible d’acheter sur l’événement.\n\nCet événement est gratuit et ouvert à toutes et à tous.
URL:https://www.mqlt.fr/agenda/les-ateliers-creatifs/
LOCATION:Maison de Quartier La Touche
END:VEVENT
BEGIN:VEVENT
DTSTART;TZID=Europe/Paris:20231205T093000
DTEND;TZID=Europe/Paris:20231205T113000
DTSTAMP:20260421T093420
CREATED:20230926T091947Z
LAST-MODIFIED:20230926T091947Z
UID:17614-1701768600-1701775800@www.mqlt.fr
SUMMARY:Séance Thématique - Séance animée par les étudiant·es de la licence pro USETIC Rennes 2
DESCRIPTION:1. Gérer des mots de passe \n2. Entretenir et nettoyer son ordinateur
URL:https://www.mqlt.fr/agenda/seance-thematique-seance-animee-par-les-etudiant%c2%b7es-de-la-licence-pro-usetic-rennes-2-2/
LOCATION:Maison de Quartier La Touche
END:VEVENT
BEGIN:VEVENT
DTSTART;TZID=Europe/Paris:20231207T080000
DTEND;TZID=Europe/Paris:20231207T170000
DTSTAMP:20260421T093420
CREATED:20230926T092055Z
LAST-MODIFIED:20230926T092055Z
UID:17616-1701936000-1701968400@www.mqlt.fr
SUMMARY:Séance Thématique - Séance animée par les étudiant·es de la licence pro USETIC Rennes 2
DESCRIPTION:1. Protéger ses données personnelles \n2. Eviter les arnaques en ligne
URL:https://www.mqlt.fr/agenda/seance-thematique-seance-animee-par-les-etudiant%c2%b7es-de-la-licence-pro-usetic-rennes-2-3/
LOCATION:Maison de Quartier La Touche
END:VEVENT
END:VCALENDAR